BEGIN:VCALENDAR
VERSION:2.0
PRODID:-//TCM - ECPv6.15.20//NONSGML v1.0//EN
CALSCALE:GREGORIAN
METHOD:PUBLISH
X-ORIGINAL-URL:https://ucctcm.org
X-WR-CALDESC:Events for TCM
REFRESH-INTERVAL;VALUE=DURATION:PT1H
X-Robots-Tag:noindex
X-PUBLISHED-TTL:PT1H
BEGIN:VTIMEZONE
TZID:America/Chicago
BEGIN:DAYLIGHT
TZOFFSETFROM:-0600
TZOFFSETTO:-0500
TZNAME:CDT
DTSTART:20250309T080000
END:DAYLIGHT
BEGIN:STANDARD
TZOFFSETFROM:-0500
TZOFFSETTO:-0600
TZNAME:CST
DTSTART:20251102T070000
END:STANDARD
BEGIN:DAYLIGHT
TZOFFSETFROM:-0600
TZOFFSETTO:-0500
TZNAME:CDT
DTSTART:20260308T080000
END:DAYLIGHT
BEGIN:STANDARD
TZOFFSETFROM:-0500
TZOFFSETTO:-0600
TZNAME:CST
DTSTART:20261101T070000
END:STANDARD
BEGIN:DAYLIGHT
TZOFFSETFROM:-0600
TZOFFSETTO:-0500
TZNAME:CDT
DTSTART:20270314T080000
END:DAYLIGHT
BEGIN:STANDARD
TZOFFSETFROM:-0500
TZOFFSETTO:-0600
TZNAME:CST
DTSTART:20271107T070000
END:STANDARD
END:VTIMEZONE
BEGIN:VEVENT
DTSTART;TZID=America/Chicago:20260425T090000
DTEND;TZID=America/Chicago:20260425T130000
DTSTAMP:20260422T062606
CREATED:20260407T032639Z
LAST-MODIFIED:20260407T032639Z
UID:14226-1777107600-1777122000@ucctcm.org
SUMMARY:Iowa Northwestern Association Annual Meeting
DESCRIPTION:IA Nortwestern Assoc Annual Mtg 2026
URL:https://ucctcm.org/full-calendar/iowa-northwestern-association-annual-meeting-2/
LOCATION:Belmond United Church of Christ\, 116 West Main St.\, Belmond\, IA\, United States
CATEGORIES:Annual Meeting,Association,Iowa
END:VEVENT
BEGIN:VEVENT
DTSTART;TZID=America/Chicago:20260426T143000
DTEND;TZID=America/Chicago:20260426T170000
DTSTAMP:20260422T062606
CREATED:20260224T010002Z
LAST-MODIFIED:20260224T010002Z
UID:13710-1777213800-1777222800@ucctcm.org
SUMMARY:South Dakota Two Rivers Assoc. Spring Meeting
DESCRIPTION:
URL:https://ucctcm.org/full-calendar/south-dakota-two-rivers-assoc-spring-meeting/
LOCATION:First Congregational UCC – Sioux Falls\, SD\, Sioux Falls\, SD\, United States
CATEGORIES:Association,South Dakota
END:VEVENT
BEGIN:VEVENT
DTSTART;TZID=America/Chicago:20260426T143000
DTEND;TZID=America/Chicago:20260426T173000
DTSTAMP:20260422T062606
CREATED:20260331T194949Z
LAST-MODIFIED:20260331T194949Z
UID:14174-1777213800-1777224600@ucctcm.org
SUMMARY:Iowa Central and Southwest Associations' 2026 Annual Meeting
DESCRIPTION:Zoom Link: https://us06web.zoom.us/j/89152410736?pwd=vtapSEpzLcXVOulaq3KotRbT3Zkobz.1#success\nMeeting ID: 891 5241 0736\nPasscode: 624929 \n 
URL:https://ucctcm.org/full-calendar/iowa-central-and-southwest-associations-2026-annual-meeting/
LOCATION:Urbandale UCC\, Urbandale\, Iowa
CATEGORIES:Annual Meeting,Association,Iowa
END:VEVENT
BEGIN:VEVENT
DTSTART;TZID=America/Chicago:20260430T090000
DTEND;TZID=America/Chicago:20260430T160000
DTSTAMP:20260422T062606
CREATED:20260331T201817Z
LAST-MODIFIED:20260331T201817Z
UID:14186-1777539600-1777564800@ucctcm.org
SUMMARY:Boundary Awareness Training
DESCRIPTION:Offered though the Damascus Project.  Facilitators are Rev. Dr. Stephanie Perdew and Rev. Kendy Miller. \nTo Register for one of this upcoming trainings\, please follow the link below: https://thedamascusproject.org/product/boundary-awareness-training-spring-2026/
URL:https://ucctcm.org/full-calendar/boundary-awareness-training-2/
LOCATION:IA
END:VEVENT
END:VCALENDAR